BEGIN:VCALENDAR
VERSION:2.0
PRODID:https://github.com/derhansen/sf_event_mgt
METHOD:PUBLISH
BEGIN:VEVENT
UID:7921-481@www.wind-energie.de
CLASS: PUBLIC
SUMMARY:Tarmstedter Ausstellung
DESCRIPTION:<p>Das Thema Erneuerbare Energie hat sich in den letzten Jahren
  zu einem immer bedeutenderem Thema auf der Landwirtschaftsmesse „Tarmst
 edter Ausstellung“ entwickelt.<br /> Seit Gründung ist der LEE jedes Ja
 hr mit einem Stand in Tarmstedt vertreten.</p>\n\n<p>Gemeinsam mit unseren
  Mitausstellern – Projektierer für Freiflächen-PV-Anlagen und Windener
 gieanlagen, Stromanbieter, Dienstleister für Biogasanlagen, Hersteller vo
 n Speicherlösungen – setzt der LEE auf einen starken Auftritt der Erneu
 erbaren in <strong>Zelthalle 7</strong>.</p>\n\n<p><a href="https://lee-nd
 s-hb.de/veranstaltung/tarmstedter-austellung/" target="_blank">&gt;&gt; We
 itere Informationen</a>&nbsp; &nbsp;</p>
LOCATION:Tarmstedter Ausstellung
DTSTART:20260709T220000Z
DTEND:20260712T220000Z
END:VEVENT
END:VCALENDAR