BEGIN:VCALENDAR
VERSION:2.0
PRODID:https://github.com/derhansen/sf_event_mgt
METHOD:PUBLISH
BEGIN:VEVENT
UID:7922-481@www.wind-energie.de
CLASS: PUBLIC
SUMMARY:Branchentag Erneuerbare Energien
DESCRIPTION:<p><strong>Save the date!</strong></p>\n\n<p>Weitere Informatio
 nen zum Programm, zur Teilnahme und zum Unternehmenssponsoring folgen in K
 ürze. (<a href="https://lee-nds-hb.de/veranstaltung/branchentag-erneuerba
 re-energien-save-the-date/" target="_blank">Link</a>)</p>\n\n<p>Ort: Hanno
 ver&nbsp;&nbsp;</p>
DTSTART:20260823T220000Z
DTEND:20260824T220000Z
END:VEVENT
END:VCALENDAR