BEGIN:VCALENDAR
VERSION:2.0
PRODID:https://github.com/derhansen/sf_event_mgt
METHOD:PUBLISH
BEGIN:VEVENT
UID:8265-472@www.wind-energie.de
CLASS: PUBLIC
SUMMARY:94. BWE-Windstammtisch
DESCRIPTION:<p class="fusion-title-heading title-heading-center fusion-resp
 onsive-typography-calculated">„Erneuerbare im Aufwind oder auf dem Abste
 llgleis“&nbsp;&nbsp;das ist - aus wichtigem Anlass - Thema des 94. Hambu
 rger Windstammtisches.<br /> Gemeinsam mit dem Partner ENERTRAG lädt der 
 Hamburger Landesverband des Bundesverbandes WindEnergie e.V. (BWE) ein.</p
 >\n\n<p class="fusion-title-heading title-heading-center fusion-responsive
 -typography-calculated"><a href="https://www.windstammtisch.de/2026/04/13/
 94-bwe-windstammtisch-erneuerbare-im-aufwind-oder-auf-dem-abstellgleis-am-
 06-05-2025/" target="_blank">&gt;&gt; Weitere Infos und Anmeldung</a>&nbsp
 ;</p>
LOCATION:Enertrag im historischen Laeiszhof
DTSTART:20260506T160000Z
DTEND:20260505T220000Z
END:VEVENT
END:VCALENDAR