BEGIN:VCALENDAR
VERSION:2.0
PRODID:https://github.com/derhansen/sf_event_mgt
METHOD:PUBLISH
BEGIN:VEVENT
UID:722-469@www.wind-energie.de
CLASS: PUBLIC
SUMMARY:Wahl des Landesvorstandes Berlin-Brandenburg
DESCRIPTION:<p>Kandidaturen von Mitgliedern des Landesverbandes Berlin Bran
 denburg (unter Angabe der Funktion, auf die Sie sich bewerben) können bis
  Montag, den 14. Oktober 2019, elektronisch an <a href="mailto:be-bb@bwe-r
 egional.de">be-bb@bwe-regional.de</a> oder postalisch dem Bundesverband Wi
 ndEnergie e.V. (BWE), Landesgeschäftsstelle Berlin/Brandenburg, Gregor-Me
 ndel-Straße 36-37, 14469 Potsdam, bekannt gegeben werden. Ansprechpartner
  ist Sebastian Haase, Leiter der Landesgeschäftsstelle Berlin/Brandenburg
 </p>\n\n<p><strong>Im Anschluss an die Wahl findet ab 18:00 Uhr die Sitzun
 g des Landesverbandes statt.</strong></p>
LOCATION:Notus
DTSTART:20191022T150000Z
DTEND:20191022T160000Z
END:VEVENT
END:VCALENDAR