BEGIN:VCALENDAR
VERSION:2.0
PRODID:https://github.com/derhansen/sf_event_mgt
METHOD:PUBLISH
BEGIN:VEVENT
UID:1517-496@www.wind-energie.de
CLASS: PUBLIC
SUMMARY:Neujahrsempfang der Erneuerbaren Schleswig-Holstein
DESCRIPTION:<p>Ãœbertragung live aus Kiel: ARGE Netz, BWE SH und LEE SH lad
 en ein zum Neujahrsempfang der Erneuerbaren</p>\n\n<p>Die neue Bundesregie
 rung steht, und der Klimaschutz ist eines der Top-Themen auf ihrer Agenda.
  Die Ampelkoalition verspricht einen neuen Schub fÃ¼r die Erneuerbaren. Wa
 s bedeutet das fÃ¼r das Energiewendeland Schleswig-Holstein? 100 Tage vor 
 der Landtagswahl am 8. Mai wollen wir mit den Spitzen von CDU und SPD, GrÃ
 ¼nen und FDP darÃ¼ber diskutieren.</p>\n\n<p>Wegen der angespannten Pandem
 iesituation haben wir uns entschlossen, diese Podiumsrunde nicht vor dem g
 roÃŸen Publikum unseres traditionellen Neujahrsempfangs zu veranstalten, s
 ondern live aus Kiel zu Ã¼bertragen. Denn Ihre Gesundheit liegt uns am Her
 zen!</p>\n\n<p>Sie sind deshalb herzlich eingeladen, am Mittwoch, den 26. 
 Januar um 19:00 Uhr an diesem virtuellen Highlight teilzunehmen und Ihre p
 ersÃ¶nlichen Fragen zu stellen.<br /> <strong>Um den Link zu unserer Veran
 staltung zu erhalten, melden Sie sich bitte bis zum 22.01.2022 per E-Mail 
 an:</strong> <a href="mailto:anmeldung@lee-sh.de">anmeldung@lee-sh.de</a><
 /p>
LOCATION:Webmeeting
DTSTART:20220126T180000Z
DTEND:20220126T193000Z
END:VEVENT
END:VCALENDAR