BEGIN:VCALENDAR
VERSION:2.0
PRODID:https://github.com/derhansen/sf_event_mgt
METHOD:PUBLISH
BEGIN:VEVENT
UID:1970-45@www.wind-energie.de
CLASS: PUBLIC
SUMMARY:Mitgliederversammlung Landes- und Regionalverband Mecklenburg-Vorpommern
DESCRIPTION:<p>Wir bitten um eine verbindliche Anmeldung bis zum 10.04.2023
  unter den o.a. Kontaktdaten.</p>\n\n<p><strong>Kontakt: </strong>Andreas 
 Jesse<br /> Tel.:03847 / 4363941<br /> MV@bwe-regional.de</p>\n\n<p>Im Ans
 chluss der Mitgliederversammlung laden wir Sie recht herzlich zur<br /> LE
 E MV Fachtagung - Ausbau der Windenergie in Mecklenburg- Vorpommern ein.<b
 r /> Die Anmeldung zur Fachtagung bitte über die Homepage des LEE - MV ( 
 www.lee-mv.de )</p>
LOCATION:IHK Schwerin
DTSTART:20230418T080000Z
DTEND:20230418T093000Z
END:VEVENT
END:VCALENDAR