BEGIN:VCALENDAR
VERSION:2.0
PRODID:https://github.com/derhansen/sf_event_mgt
METHOD:PUBLISH
BEGIN:VEVENT
UID:2184-45@www.wind-energie.de
CLASS: PUBLIC
SUMMARY:Digitale Karrieremesse Erneuerbare Energien (KEE) 2024
DESCRIPTION:<p>In interaktiven Sessions vernetzen wir dich mit regionalen A
 rbeitgebern aus den Erneuerbaren Energien. Unsere <strong>digitale Messe <
 /strong>für Berufseinsteiger*innen und Berufserfahrene aller Art gewährt
  <strong>Einblicke in die grüne Energiebranche</strong> und eröffnet <st
 rong>reale Karrierechancen</strong>. Entdecke deinen neuen Traumjob, knüp
 fe wertvolle Kontakte zu Unternehmen und bringe deine Karriere auf das nä
 chste Level.<br /> <a href="https://kee.ee-hub.de/?utm_source=wind-energie
 .de&amp;utm_medium=referral&amp;utm_campaign=WEB_24-10-01&amp;utm_content=
 Termineintrag" target="_blank">&gt;&gt; Weitere Informationen</a></p>
DTSTART:20240528T220000Z
DTEND:20240529T220000Z
END:VEVENT
END:VCALENDAR