BEGIN:VCALENDAR
VERSION:2.0
PRODID:https://github.com/derhansen/sf_event_mgt
METHOD:PUBLISH
BEGIN:VEVENT
UID:2181-45@www.wind-energie.de
CLASS: PUBLIC
SUMMARY:BWE Gesamtvorstandssitzung
DESCRIPTION:<p><strong>Kontakt: </strong>Carlo Reeker<br /> c.reeker@wind-e
 nergie.de</p>
DTSTART:20240515T130000Z
DTEND:20240515T160000Z
END:VEVENT
END:VCALENDAR