BEGIN:VCALENDAR
VERSION:2.0
PRODID:https://github.com/derhansen/sf_event_mgt
METHOD:PUBLISH
BEGIN:VEVENT
UID:1710-484@www.wind-energie.de
CLASS: PUBLIC
SUMMARY:14. Branchentag Windenergie NRW
DESCRIPTION:<p>Der Branchentag Windenergie NRW ist der Hotspot für Top-Ent
 scheider und Vordenker der Windbranche. Die zweitägige Veranstaltung hat 
 sich in den vergangen zehn Jahren, seit ihrer Gründung im Jahr 2008, zu d
 em führenden Fachkongress und Networkingevent im Zuliefererland Nr. 1 der
  Windbranche etabliert.</p>\n\n<p><a href="https://nrw-windenergie.de/" ta
 rget="_blank">&gt;&gt; Weitere Informationen, Programm und Anmeldung</a></
 p>
LOCATION:Wissenschaftspark Gelsenkirchen
DTSTART:20220809T220000Z
DTEND:20220810T220000Z
END:VEVENT
END:VCALENDAR